BEGIN:VCALENDAR
VERSION:2.0
PRODID:-//ES NMOSD - ECPv6.13.2.1//NONSGML v1.0//EN
CALSCALE:GREGORIAN
METHOD:PUBLISH
X-WR-CALNAME:ES NMOSD
X-ORIGINAL-URL:https://esnmosd.org
X-WR-CALDESC:Eventos para ES NMOSD
REFRESH-INTERVAL;VALUE=DURATION:PT1H
X-Robots-Tag:noindex
X-PUBLISHED-TTL:PT1H
BEGIN:VTIMEZONE
TZID:UTC
BEGIN:STANDARD
TZOFFSETFROM:+0000
TZOFFSETTO:+0000
TZNAME:UTC
DTSTART:20260101T000000
END:STANDARD
END:VTIMEZONE
BEGIN:VEVENT
DTSTART;VALUE=DATE:20260424
DTEND;VALUE=DATE:20260426
DTSTAMP:20260421T102649
CREATED:20260420T173925Z
LAST-MODIFIED:20260420T173926Z
UID:10000016-1776988800-1777161599@esnmosd.org
SUMMARY:Conferencia EMSP2026
DESCRIPTION:No te pierdas la conferencia #EMSP2026 en Berlín los días 24 y 25 de abril: \nEste año\, el tema es: Del diagnóstico a un mejor acceso: Soluciones basadas en datos para personas con EM\, NMO y MOGAD – Hacia un futuro más equitativo para los paciente. \nQué puedes esperar:\n• Ideas clínicas innovadoras\n• Debates políticos al más alto nivel de la UE\n• Soluciones prácticas y centradas en el paciente \nConecta con más de 100 profesionales del sector de toda Europa.\nYa seas representante de pacientes\, profesional sanitario\, investigador o responsable político — este es el punto de encuentro entre prioridades e innovación. \nEn esta ocasión\, como representante de nuestra asociación\, participará nuestro vicepresidente Agustí Fonts.
URL:https://esnmosd.org/event/conferencia-emsp2026/
CATEGORIES:Actividades
ATTACH;FMTTYPE=image/png:https://esnmosd.org/wp-content/uploads/2026/04/image.png
END:VEVENT
END:VCALENDAR